BEGIN:VCALENDAR
VERSION:2.0
PRODID:-//Tukios.com/
BEGIN:VEVENT
UID:04b5a3fe-9a7c-448e-a90b-e9cb910eb986@www.dimondfuneralhome.com
DTSTAMP:20260424T081521Z
DTSTART:20260427T150000Z
DTEND:20260427T160000Z
SUMMARY:Memorial Service
DESCRIPTION:
URL:https://www.dimondfuneralhome.com/obituaries/valeria-thomas
LOCATION:South Fork First Evangelical Church 500 Maple Street  South Fork 
	PA 15956
GEO:40.3655107;-78.7914039
END:VEVENT
END:VCALENDAR